BEGIN:VCALENDAR
VERSION:2.0
PRODID:https://www.kufer.de/kuferweb / DE
METHOD:PUBLISH
CALSCALE:GREGORIAN
X-WR-TIMEZONE:Europe/Berlin
BEGIN:VTIMEZONE
TZID:Europe/Berlin
X-LIC-LOCATION:Europe/Berlin
BEGIN:DAYLIGHT
TZOFFSETFROM:+0100
TZOFFSETTO:+0200
TZNAME:CEST
DTSTART:19700329T020000
RRULE:FREQ=YEARLY;INTERVAL=1;BYDAY=-1SU;BYMONTH=3
END:DAYLIGHT
BEGIN:STANDARD
TZOFFSETFROM:+0200
TZOFFSETTO:+0100
TZNAME:CET
DTSTART:19701025T030000
RRULE:FREQ=YEARLY;INTERVAL=1;BYDAY=-1SU;BYMONTH=10
END:STANDARD
END:VTIMEZONE
BEGIN:VEVENT
DTSTAMP:20260425T214506
DTSTART;TZID=Europe/Berlin:20260124T090000
DTEND;TZID=Europe/Berlin:20260124T140000
UID:252-4102-20260124T090000@VHSBERGKAMEN
DESCRIPTION:Ersatz für Ausfall am 10.01.2026
SUMMARY:Schnupperkurs  Niederländisch – In 6 Stunden zum Einstieg!  (252-4102) 
LOCATION:Treffpunkt; 1. Stock; Raum 207, Lessingstraße 2, 59192 Bergkamen
END:VEVENT
END:VCALENDAR